BEGIN:VCALENDAR
VERSION:2.0
PRODID:-//Snausarve Gårdsbryggeri - ECPv6.15.20//NONSGML v1.0//EN
CALSCALE:GREGORIAN
METHOD:PUBLISH
X-ORIGINAL-URL:https://snausarve.nu
X-WR-CALDESC:Händelser för Snausarve Gårdsbryggeri
REFRESH-INTERVAL;VALUE=DURATION:PT1H
X-Robots-Tag:noindex
X-PUBLISHED-TTL:PT1H
BEGIN:VTIMEZONE
TZID:UTC
BEGIN:STANDARD
TZOFFSETFROM:+0000
TZOFFSETTO:+0000
TZNAME:UTC
DTSTART:20210101T000000
END:STANDARD
END:VTIMEZONE
BEGIN:VEVENT
DTSTART;TZID=UTC:20220402T150000
DTEND;TZID=UTC:20220402T230000
DTSTAMP:20260421T145823
CREATED:20220218T090206Z
LAST-MODIFIED:20220218T091634Z
UID:172-1648911600-1648940400@snausarve.nu
SUMMARY:Wisby Strand Ölmässa
DESCRIPTION:Festival på hemmaplan! \n \nGivetvis kommer vi! Vi kommer plocka med oss ett gäng roliga öl som du inte vill missa.
URL:https://snausarve.nu/event/172/
LOCATION:Wisby strand\, Strandvägen 4\, Visby\, 621 55\, Sverige
CATEGORIES:Festival
END:VEVENT
END:VCALENDAR