BEGIN:VCALENDAR
VERSION:2.0
PRODID:-//Snausarve Gårdsbryggeri - ECPv6.15.20//NONSGML v1.0//EN
CALSCALE:GREGORIAN
METHOD:PUBLISH
X-ORIGINAL-URL:https://snausarve.nu
X-WR-CALDESC:Händelser för Snausarve Gårdsbryggeri
REFRESH-INTERVAL;VALUE=DURATION:PT1H
X-Robots-Tag:noindex
X-PUBLISHED-TTL:PT1H
BEGIN:VTIMEZONE
TZID:UTC
BEGIN:STANDARD
TZOFFSETFROM:+0000
TZOFFSETTO:+0000
TZNAME:UTC
DTSTART:20220101T000000
END:STANDARD
END:VTIMEZONE
BEGIN:VEVENT
DTSTART;TZID=UTC:20230704T183000
DTEND;TZID=UTC:20230704T200000
DTSTAMP:20260421T003541
CREATED:20230629T114217Z
LAST-MODIFIED:20230629T114217Z
UID:533-1688495400-1688500800@snausarve.nu
SUMMARY:Maggies Farmers spelar Dylan och Young
DESCRIPTION:Maggies Farmers kommer och spelar hos oss under två kväll i juli och vi kan lova att det blir magiskt!\nInget inträde\, swish till bandet!
URL:https://snausarve.nu/event/maggies-farmers-spelar-dylan-och-young/
LOCATION:Snausarve taproom\, silte snausarve 128\, Havdhem\, 62343\, Sverige
ATTACH;FMTTYPE=image/jpeg:https://snausarve.nu/wp-content/uploads/2023/06/Maggie.jpg
END:VEVENT
BEGIN:VEVENT
DTSTART;TZID=UTC:20230707T153000
DTEND;TZID=UTC:20230707T170000
DTSTAMP:20260421T003541
CREATED:20230702T090306Z
LAST-MODIFIED:20230702T090306Z
UID:543-1688743800-1688749200@snausarve.nu
SUMMARY:Från en ö till en annan- Liv guidar oss till viner från små producenter på vackra öar
DESCRIPTION:Vi älskar inte bara öl på Snausarve\, vi vill njuta av alla goda grejer!\nLiv Marend driver restaurangen på Stora Karlsö och har en lång bakgrund med mat och dryck. Hon är expert på hållbara produkter och väljer sina viner med omsorg. De ska både smaka gott och göra gott!\nFredag den 7e juli tar hon med sig rött och vitt från några väl valda producenter och håller en vinprovning hos oss på bryggeriet. Missa inte!\n450kr per person\nBoka via mail: nina@snausarve.nu \nVisa mindre
URL:https://snausarve.nu/event/fran-en-o-till-en-annan-liv-guidar-oss-till-viner-fran-sma-producenter-pa-vackra-oar/
LOCATION:Snausarve taproom\, silte snausarve 128\, Havdhem\, 62343\, Sverige
END:VEVENT
BEGIN:VEVENT
DTSTART;TZID=UTC:20230707T200000
DTEND;TZID=UTC:20230707T210000
DTSTAMP:20260421T003541
CREATED:20230702T090044Z
LAST-MODIFIED:20230702T090044Z
UID:541-1688760000-1688763600@snausarve.nu
SUMMARY:Rebels live på Snausarve
DESCRIPTION:Äntligen är Rebels tillbaka på Snausarve för att leverera äkta rock´n roll!\nVärm upp nacken och dra på skinnpajjen\, nu köör vi!\nInträde 120kr i dörren.
URL:https://snausarve.nu/event/rebels-live-pa-snausarve/
LOCATION:Snausarve taproom\, silte snausarve 128\, Havdhem\, 62343\, Sverige
ATTACH;FMTTYPE=image/png:https://snausarve.nu/wp-content/uploads/2022/02/index.png
END:VEVENT
BEGIN:VEVENT
DTSTART;TZID=UTC:20230711T183000
DTEND;TZID=UTC:20230711T200000
DTSTAMP:20260421T003541
CREATED:20230629T114303Z
LAST-MODIFIED:20230629T114350Z
UID:536-1689100200-1689105600@snausarve.nu
SUMMARY:Maggies Farmers spelar Dylan och Young
DESCRIPTION:Maggies Farmers kommer och spelar hos oss under två kväll i juli och vi kan lova att det blir magiskt!\nInget inträde\, swish till bandet!
URL:https://snausarve.nu/event/maggies-farmers-spelar-dylan-och-young-2/
LOCATION:Snausarve taproom\, silte snausarve 128\, Havdhem\, 62343\, Sverige
ATTACH;FMTTYPE=image/jpeg:https://snausarve.nu/wp-content/uploads/2023/06/Maggie.jpg
END:VEVENT
BEGIN:VEVENT
DTSTART;VALUE=DATE:20230719
DTEND;VALUE=DATE:20230720
DTSTAMP:20260421T003541
CREATED:20230626T161542Z
LAST-MODIFIED:20230626T162706Z
UID:522-1689724800-1689811199@snausarve.nu
SUMMARY:Öletsdag på Snausarve
DESCRIPTION:Enligt tradition firar vi ölets dag på bryggeriet. Truls från Boge bränneri brygger dricke och vi kopplar på några riktiga specialare i både stora och lilla baren! \nTa med eget möblemand om ni är många\, det här är vår mest populära dag på hela året!
URL:https://snausarve.nu/event/oletsdag-pa-snausarve/
LOCATION:Snausarve taproom\, silte snausarve 128\, Havdhem\, 62343\, Sverige
CATEGORIES:ölets dag
ATTACH;FMTTYPE=image/jpeg:https://snausarve.nu/wp-content/uploads/2023/06/oletsdag.jpg
END:VEVENT
BEGIN:VEVENT
DTSTART;TZID=UTC:20230807T190000
DTEND;TZID=UTC:20230807T213000
DTSTAMP:20260421T003541
CREATED:20230704T151052Z
LAST-MODIFIED:20230704T151156Z
UID:568-1691434800-1691443800@snausarve.nu
SUMMARY:Lazy afternoon på Snausarve
DESCRIPTION:Lazy Afternoon with influences from here\, there and everywhere. Music for dancing\, listening and cry in your beer over and over again. One of the best and most intresting bands of the genre to come out of Sweden. ~ Jonas Öhman\n\nLazy Afternoon är mest känt för sin americana- och folkrockmusik. Bandet bildades år 2014 och består av sju medlemmar: Anna-Nora (trummor)\, Cristina (gitarr och sång)\, Bo (bouzouki\, banjo\, mandolin och sång)\, Elvira (fiol\, tvättbräde\, congas och sång)\, Jörgen (durspel)\, Agnes (Elgitarr och sång) samt Stefan (bas och sång).\nLazy Afternoon har släppt tre studioalbum: ”Whatever!” (2016)\, ”Almost Home” (2019) och ”Just As Poor As Before” (2022). Deras musik kännetecknas av melodiska gitarr- och durspelsdrivna låtar med influenser från 60-talets americana och countryrock.\nBandet har spelat på flera olika platser runt om i Sverige och är kända för sitt energifulla liveframträdande. De har också fått mycket uppmärksamhet för deras skickliga låtskrivande och harmoniska sångarrangemang.\nLazy Afternoon är utan tvekan ett av Gotlands främsta band inom americana och folkrock\, och de fortsätter att locka och entusiasmera publiken med sin unika musikaliska stil\n\nPris :150 Kr och köpes här:\nhttps://www.biljettkiosken.se/event/230807-artache-lazy_afternoon_pa_snausarve
URL:https://snausarve.nu/event/lazy-afternoon-pa-snausarve/
LOCATION:Snausarve taproom\, silte snausarve 128\, Havdhem\, 62343\, Sverige
CATEGORIES:Spelning,Tap room
ATTACH;FMTTYPE=image/jpeg:https://snausarve.nu/wp-content/uploads/2023/07/Lazy.jpg
END:VEVENT
BEGIN:VEVENT
DTSTART;TZID=UTC:20230812T150000
DTEND;TZID=UTC:20230812T230000
DTSTAMP:20260421T003541
CREATED:20230702T115603Z
LAST-MODIFIED:20230702T120724Z
UID:546-1691852400-1691881200@snausarve.nu
SUMMARY:Snausarve Open Air
DESCRIPTION:Den 12e augusti anordnar vi den fetaste rockfestivalen någonsin skådad i Silte socken. \nFem gotländska band på scenen; Dogmen\, Neverdie\, Void\, Swärta och Rebels. \nGivetvis kan man dricka vår bira och äta god mat under hela festivalen! Alkoholfria alternativ finns. \n  \nBiljetter köpes här: \nhttps://www.biljettkiosken.se/snausarverock
URL:https://snausarve.nu/event/snausarve-open-air/
LOCATION:Snausarve taproom\, silte snausarve 128\, Havdhem\, 62343\, Sverige
CATEGORIES:Festival,Spelning
ATTACH;FMTTYPE=image/jpeg:https://snausarve.nu/wp-content/uploads/2023/07/startposter-scaled.jpg
END:VEVENT
BEGIN:VEVENT
DTSTART;TZID=UTC:20230819T170000
DTEND;TZID=UTC:20230819T223000
DTSTAMP:20260421T003541
CREATED:20230816T200534Z
LAST-MODIFIED:20230816T200534Z
UID:641-1692464400-1692484200@snausarve.nu
SUMMARY:Snausarve på Spritmuseum
DESCRIPTION:Nu är det dags för oss att hänga på spritmuseum\, och delta i Sveriges Längsta ölfestival. \nKom dit smaka en god öl! prata med oss och ha allmänt roligt!
URL:https://snausarve.nu/event/snausarve-pa-spritmuseum/
LOCATION:Spritmuseum\, Djurgårdsstrand 9\, Stockholm\, 11521\, Sverige
CATEGORIES:Tap Take over
ATTACH;FMTTYPE=image/webp:https://snausarve.nu/wp-content/uploads/2023/08/olcontainer-bryggan-folke-3200x1800-1-1536x864-1.webp
END:VEVENT
BEGIN:VEVENT
DTSTART;TZID=UTC:20250624T080000
DTEND;TZID=UTC:20250624T170000
DTSTAMP:20260421T003541
CREATED:20250624T131802Z
LAST-MODIFIED:20250624T131833Z
UID:1196-1750752000-1750784400@snausarve.nu
SUMMARY:Silteloppet
DESCRIPTION:Spring för badbryggan i Kvarnåkershamn! \nett motionslopp för attsamla in pengar till bevarandet av vår badbrygga. \nLoppet är ca 10 km långt och går genom Siltes natursköna landskap från stranden och upp till \nSnausarve Gårdsbryggeri. \nDet kommer att finnas två stargrupper\, en för gående och lunkande kl 10:30 och en för de snabbare löparna kl 12:00 \nI motionsklassen lottas fina priser ut och i löparklassen för första\, andra och tredje plats pris. Alla deltagare får en alkoholfri öl från Snausarve vid målgång. \nStart: Kvarnåkershamn södra brygga\, mål Snausarve Gårdsbryggeri. \nPassar alla åldrar! Incheckning från kl 09:00 på stranden. \n  \nAnmälan dig här
URL:https://snausarve.nu/event/silteloppet/
END:VEVENT
BEGIN:VEVENT
DTSTART;TZID=UTC:20250625T120000
DTEND;TZID=UTC:20250625T170000
DTSTAMP:20260421T003541
CREATED:20230626T162610Z
LAST-MODIFIED:20250624T100155Z
UID:527-1750852800-1750870800@snausarve.nu
SUMMARY:Marknadsdag på Snausarve
DESCRIPTION:  \nFör fjärde året i rad bjuder vi in till marknadsdag på Snausarve! \nVåra lokala producenter och kollegor kommer med goda grejer som grönsaker\, buffelkött\, \nhonung\, potatis och annat smått och gott. Det blir även hantverk och loppis i år. \nKom och fika\, handla\, ta en öl och häng med oss!
URL:https://snausarve.nu/event/marknadsdag-pa-snausarve/
LOCATION:Snausarve taproom\, silte snausarve 128\, Havdhem\, 62343\, Sverige
ATTACH;FMTTYPE=image/jpeg:https://snausarve.nu/wp-content/uploads/2023/06/marknadsdag.jpg
END:VEVENT
BEGIN:VEVENT
DTSTART;TZID=UTC:20250704T190000
DTEND;TZID=UTC:20250704T203000
DTSTAMP:20260421T003541
CREATED:20250624T130542Z
LAST-MODIFIED:20250624T130925Z
UID:1191-1751655600-1751661000@snausarve.nu
SUMMARY:Sudersällskapet till Snausarve!
DESCRIPTION:Äntligen uppträder Sudersällskapet på hemmaplan! \nStörsta hitsen och bästa viben! \nAlla åldrar är välkomna. Mat och Dryck serveras i puben och Gotland Spirits kör ginbar. Spelningen börjar ca:19:00 \n  \nbiljetter hittar du här
URL:https://snausarve.nu/event/sudersallskapet-till-snausarve/
LOCATION:Snausarve taproom\, silte snausarve 128\, Havdhem\, 62343\, Sverige
CATEGORIES:Spelning,Tap room
END:VEVENT
BEGIN:VEVENT
DTSTART;TZID=UTC:20250709T190000
DTEND;TZID=UTC:20250709T210000
DTSTAMP:20260421T003541
CREATED:20250708T075500Z
LAST-MODIFIED:20250708T075500Z
UID:1224-1752087600-1752094800@snausarve.nu
SUMMARY:Maggies Farmers!
DESCRIPTION:  \n \nGrymma Maggies farmers förgyller vår kväll med låtar av bland annat\, Bob Dylan och Neil Young. \nInträde 100 kr från 19:00\, betalas i puben. \nIngen åldersgräns!
URL:https://snausarve.nu/event/maggies-farmers/
LOCATION:Snausarve taproom\, silte snausarve 128\, Havdhem\, 62343\, Sverige
END:VEVENT
BEGIN:VEVENT
DTSTART;VALUE=DATE:20250716
DTEND;VALUE=DATE:20250717
DTSTAMP:20260421T003541
CREATED:20250708T075934Z
LAST-MODIFIED:20250708T075934Z
UID:1227-1752624000-1752710399@snausarve.nu
SUMMARY:Ölets dag på Snausarve
DESCRIPTION:Traditionsenligt så firar vi Ölets dag den tredje onsdagen i juli.Boge Bränneri kör egen bar . Vi brygger dricka på uteserveringen.  Lilla baren serverar självrunnen lager och på kvällen grillar vi burgare. Vi lovar att leta fram lite specialare från surkällaren också! \nFör gårdsförsäljning\, boka din plats till en bryggerivisning här:https://snausarve.understory.io/upcoming-events
URL:https://snausarve.nu/event/olets-dag-pa-snausarve/
LOCATION:Snausarve taproom\, silte snausarve 128\, Havdhem\, 62343\, Sverige
END:VEVENT
BEGIN:VEVENT
DTSTART;TZID=UTC:20250723T210000
DTEND;TZID=UTC:20250723T230000
DTSTAMP:20260421T003541
CREATED:20250708T080127Z
LAST-MODIFIED:20250708T080127Z
UID:1229-1753304400-1753311600@snausarve.nu
SUMMARY:Rebels!
DESCRIPTION:Stretcha nacken\, nu blir det head bang!!Rebels kör bästa rock ´n rollen\, fullt ös!\nInträde 120kr från 20.00\, betalas i pubenIngen åldersgräns
URL:https://snausarve.nu/event/rebels/
LOCATION:Snausarve taproom\, silte snausarve 128\, Havdhem\, 62343\, Sverige
END:VEVENT
BEGIN:VEVENT
DTSTART;TZID=UTC:20250806T120000
DTEND;TZID=UTC:20250806T170000
DTSTAMP:20260421T003541
CREATED:20250708T080514Z
LAST-MODIFIED:20250708T080631Z
UID:1231-1754481600-1754499600@snausarve.nu
SUMMARY:Tillbaka till framtiden-bussen till Snausarve Gårdsbryggeri
DESCRIPTION:Återigen rullar bussen 5 mil och 600 år framåt till Snausarve Gårdsbryggeri. Ta en paus från vadmall\, barkgröt och rådbråkning och skäm bort dig med pizza och bira en eftermiddag.Bussen åker från Almedalen kl 12.00 och är tillbaka kl 17.00\, i lagom tid för kvällens aktiviteter.Bussen kostar 120 krIngen åldersgräns\, alla är välkomna! \n  \nBiljetter köper du här
URL:https://snausarve.nu/event/tillbaka-till-framtiden-bussen-till-snausarve-gardsbryggeri/
LOCATION:Snausarve taproom\, silte snausarve 128\, Havdhem\, 62343\, Sverige
END:VEVENT
BEGIN:VEVENT
DTSTART;TZID=UTC:20250906T170000
DTEND;TZID=UTC:20250906T223000
DTSTAMP:20260421T003541
CREATED:20230731T103019Z
LAST-MODIFIED:20250805T105743Z
UID:615-1757178000-1757197800@snausarve.nu
SUMMARY:Lammgrillning på Snausarve- med Curre Niklasson från Näs
DESCRIPTION:Curre grillar KRAV-märkt lamm från Näs\, Edith levererar grönsaker från Sproge.  \nVi serverar en liten förrätt och efterrätt samt en buffet med tillbehör till lammet. \nI baren finns det dryck att köpa till\, även alkoholfria alternativ\, såklart.  \nBarn under 15 år betalar 20kr per levnadsår\, maila nina@snausarve.nu för att boka dem. \n  \nBoka plats här! \n 
URL:https://snausarve.nu/event/lammgrillning-pa-snausarve-med-curre-niklasson-fran-nas/
LOCATION:Snausarve taproom\, silte snausarve 128\, Havdhem\, 62343\, Sverige
CATEGORIES:Tap room
ATTACH;FMTTYPE=image/jpeg:https://snausarve.nu/wp-content/uploads/2023/07/364192639_741614417976040_7920700708714545320_n.jpg
END:VEVENT
BEGIN:VEVENT
DTSTART;TZID=UTC:20260701T130000
DTEND;TZID=UTC:20260701T130000
DTSTAMP:20260421T003541
CREATED:20260414T170826Z
LAST-MODIFIED:20260414T170826Z
UID:1386-1782910800-1782910800@snausarve.nu
SUMMARY:SILTELOPPET 2026
DESCRIPTION:  \n  \nFör andra året i rad anordnas Silteloppet av Snausarve Gårdsbryggeri i samarbete med Siltegården och Coompanion. Sträckan är ca 10 kilometer lång och sträcker sig från stranden\, genom skog och hagar till bryggeriet.\nMan kan delta som motionär och ta det i sin egen takt eller springa i löparklassen och tävla mot andra. Det kommer att finnas vätskestationer längs vägen och alla deltagare blir bjudna på korv med bröd och alkoholfri öl vid målgången. Alla åldrar är välkomna!\nÖverskottet från loppet kommer i år att gå till Siltegården. \nInformation om loppet uppdateras löpande:D \n  \nBoka din plats här! \n  \n  \n 
URL:https://snausarve.nu/event/silteloppet-2026/
LOCATION:Snausarve taproom\, silte snausarve 128\, Havdhem\, 62343\, Sverige
CATEGORIES:Lopp
END:VEVENT
END:VCALENDAR