BEGIN:VCALENDAR
VERSION:2.0
PRODID:-//Snausarve Gårdsbryggeri - ECPv6.15.20//NONSGML v1.0//EN
CALSCALE:GREGORIAN
METHOD:PUBLISH
X-ORIGINAL-URL:https://snausarve.nu
X-WR-CALDESC:Händelser för Snausarve Gårdsbryggeri
REFRESH-INTERVAL;VALUE=DURATION:PT1H
X-Robots-Tag:noindex
X-PUBLISHED-TTL:PT1H
BEGIN:VTIMEZONE
TZID:UTC
BEGIN:STANDARD
TZOFFSETFROM:+0000
TZOFFSETTO:+0000
TZNAME:UTC
DTSTART:20220101T000000
END:STANDARD
END:VTIMEZONE
BEGIN:VEVENT
DTSTART;TZID=UTC:20230519T140000
DTEND;TZID=UTC:20230519T210000
DTSTAMP:20260416T230708
CREATED:20230320T133810Z
LAST-MODIFIED:20230320T135818Z
UID:468-1684504800-1684530000@snausarve.nu
SUMMARY:Pizza Try Outs
DESCRIPTION:Hjälp\, vilka pizzor ska vi ha på menyn i sommar? \nVi dukar upp en pizzabuffé med gamla favoriter och nya recept som vi vill testa inför säsongen. Salta\, söta och mitt emellan… Alltid med råvaror från våra bästa producenter på ön! Ät så mycket du orkar och ge oss feed back. \nI baren serverar vi vår egen bira\, hantverksviner\, lokal sponken och såklart alkoholfritt. \n  \nDet blir två sittningar; 14.00-17.00 och 18.00-21.00 \n275 kr för vuxna\, halva priset för barn under 12 år\, småpluttar kan vi diskutera:). Dryck  tillkommer. \n. Endast bokningar\, skriv vilken sittning du vill boka\, ring eller messa till 073-7393735 eller maila nina@snausarve.nu \n 
URL:https://snausarve.nu/event/pizza-try-outs/
LOCATION:Snausarve taproom\, silte snausarve 128\, Havdhem\, 62343\, Sverige
CATEGORIES:Tap room
ATTACH;FMTTYPE=image/jpeg:https://snausarve.nu/wp-content/uploads/2023/03/20220701_163422.jpg
END:VEVENT
END:VCALENDAR