BEGIN:VCALENDAR
VERSION:2.0
PRODID:-//Snausarve Gårdsbryggeri - ECPv6.15.20//NONSGML v1.0//EN
CALSCALE:GREGORIAN
METHOD:PUBLISH
X-WR-CALNAME:Snausarve Gårdsbryggeri
X-ORIGINAL-URL:https://snausarve.nu
X-WR-CALDESC:Händelser för Snausarve Gårdsbryggeri
REFRESH-INTERVAL;VALUE=DURATION:PT1H
X-Robots-Tag:noindex
X-PUBLISHED-TTL:PT1H
BEGIN:VTIMEZONE
TZID:UTC
BEGIN:STANDARD
TZOFFSETFROM:+0000
TZOFFSETTO:+0000
TZNAME:UTC
DTSTART:20220101T000000
END:STANDARD
END:VTIMEZONE
BEGIN:VEVENT
DTSTART;TZID=UTC:20230331T080000
DTEND;TZID=UTC:20230401T170000
DTSTAMP:20260417T070814
CREATED:20230307T095203Z
LAST-MODIFIED:20230320T122015Z
UID:440-1680249600-1680368400@snausarve.nu
SUMMARY:Växjö Ölfestival
DESCRIPTION:I år gästar vi Växjö! Det blir syrligt\, belgiskt och jävligt som vanligt! Hörde vi storflarra?? Självklart tar vi med några specialare att korka upp på kvällen! \nDemonglas\, då? Klart som fan att vi tar med! \nVi ses:) \n 
URL:https://snausarve.nu/event/vaxjo-olfestival/
LOCATION:kök11\, Honnörsgatan 15\, Växjö\, 35236\, Sverige
CATEGORIES:Festival
ATTACH;FMTTYPE=image/png:https://snausarve.nu/wp-content/uploads/2023/03/Affisch_2023_Final.png
ORGANIZER;CN="Vaxj%C3%B6beer":MAILTO:info@vaxjobeer.se
END:VEVENT
END:VCALENDAR