BEGIN:VCALENDAR
VERSION:2.0
PRODID:-//Snausarve Gårdsbryggeri - ECPv6.15.20//NONSGML v1.0//EN
CALSCALE:GREGORIAN
METHOD:PUBLISH
X-WR-CALNAME:Snausarve Gårdsbryggeri
X-ORIGINAL-URL:https://snausarve.nu
X-WR-CALDESC:Händelser för Snausarve Gårdsbryggeri
REFRESH-INTERVAL;VALUE=DURATION:PT1H
X-Robots-Tag:noindex
X-PUBLISHED-TTL:PT1H
BEGIN:VTIMEZONE
TZID:UTC
BEGIN:STANDARD
TZOFFSETFROM:+0000
TZOFFSETTO:+0000
TZNAME:UTC
DTSTART:20220101T000000
END:STANDARD
END:VTIMEZONE
BEGIN:VEVENT
DTSTART;TZID=UTC:20230325T160000
DTEND;TZID=UTC:20230325T180000
DTSTAMP:20260421T003005
CREATED:20230307T093131Z
LAST-MODIFIED:20230320T122042Z
UID:430-1679760000-1679767200@snausarve.nu
SUMMARY:Ölprovning på Bistro Burs
DESCRIPTION:Häng med till Snausarves magiska smakvärld och en ölprovning i världsklass!\nEn fröjd både för gommen och ögat\, kan inte beskrivas utan måste upplevas. \nPå Bistron kan man beställa lättare tilltugg anpassat till ölprovningen eller såklar goda grejer från menyn! \nBoka bord via sms (0723792832) till Bistro Burs eller kom förbi.
URL:https://snausarve.nu/event/olprovning-pa-bistro-burs/
LOCATION:Bistro Burs\, Burs Gajbänne 220\, Stånga\, 62349\, Sverige
ATTACH;FMTTYPE=image/jpeg:https://snausarve.nu/wp-content/uploads/2023/03/Snausarve-20210726_34-scaled.jpg
END:VEVENT
END:VCALENDAR