BEGIN:VCALENDAR
VERSION:2.0
PRODID:-//Snausarve Gårdsbryggeri - ECPv6.15.20//NONSGML v1.0//EN
CALSCALE:GREGORIAN
METHOD:PUBLISH
X-WR-CALNAME:Snausarve Gårdsbryggeri
X-ORIGINAL-URL:https://snausarve.nu
X-WR-CALDESC:Händelser för Snausarve Gårdsbryggeri
REFRESH-INTERVAL;VALUE=DURATION:PT1H
X-Robots-Tag:noindex
X-PUBLISHED-TTL:PT1H
BEGIN:VTIMEZONE
TZID:UTC
BEGIN:STANDARD
TZOFFSETFROM:+0000
TZOFFSETTO:+0000
TZNAME:UTC
DTSTART:20220101T000000
END:STANDARD
END:VTIMEZONE
BEGIN:VEVENT
DTSTART;TZID=UTC:20230318T190000
DTEND;TZID=UTC:20230319T010000
DTSTAMP:20260421T003006
CREATED:20230307T091800Z
LAST-MODIFIED:20230307T091800Z
UID:420-1679166000-1679187600@snausarve.nu
SUMMARY:Wacken Metal Battle Sweden i Visby
DESCRIPTION:Den 18 mars går deltävlingen i Wacken Metal Battle av stapeln på Joda i Visby.\nEn jury vid de fyra deltävlingarna i Stockholm\, Göteborg\, Luleå och Visby kommer att rösta fram det bästa bandet som ställs emot varandra på finalen i Stockholm i maj\, där det vinnande bandet får uppträda på Wacken Open Air Festival i den nordtyska orten Wacken. \nHeadline på Jody utom tävlan är Nårdegaist som gjort sig kända för att vara ett black metal­band som sjunger på gutamål. \n  \nI år är vi stolta sponsorer för eventet! Kalle sitter med i juryn\, vi har fixat två grymma öl och det kommer att finnas demon-glas till försäljning på plats!!
URL:https://snausarve.nu/event/wacken-metal-battle-sweden-i-visby/
LOCATION:Joda Bar & Kök\, Skeppsbron 24\, Visby\, 62157\, Sverige
CATEGORIES:Spelning
END:VEVENT
END:VCALENDAR